BEGIN:VCALENDAR
VERSION:2.0
PRODID:-//Kanawha Club - ECPv6.15.17.1//NONSGML v1.0//EN
CALSCALE:GREGORIAN
METHOD:PUBLISH
X-WR-CALNAME:Kanawha Club
X-ORIGINAL-URL:https://kanawhaclub.com
X-WR-CALDESC:Events for Kanawha Club
REFRESH-INTERVAL;VALUE=DURATION:PT1H
X-Robots-Tag:noindex
X-PUBLISHED-TTL:PT1H
BEGIN:VTIMEZONE
TZID:UTC
BEGIN:STANDARD
TZOFFSETFROM:+0000
TZOFFSETTO:+0000
TZNAME:UTC
DTSTART:20220101T000000
END:STANDARD
END:VTIMEZONE
BEGIN:VEVENT
DTSTART;TZID=UTC:20230710T100000
DTEND;TZID=UTC:20230710T120000
DTSTAMP:20260422T120420
CREATED:20230611T235941Z
LAST-MODIFIED:20230807T230739Z
UID:10000099-1688983200-1688990400@kanawhaclub.com
SUMMARY:Pro/Ladies Play
DESCRIPTION:Ladies only!  Come out to play with the Pro on Monday mornings. Our tee time is 10:00 am.  Light competition and lots of fun with some help with short game and green reading along the way.
URL:https://kanawhaclub.com/event/pro-ladies-play-6/2023-07-10/
END:VEVENT
END:VCALENDAR