BEGIN:VCALENDAR
VERSION:2.0
PRODID:-//Kanawha Club - ECPv6.15.17.1//NONSGML v1.0//EN
CALSCALE:GREGORIAN
METHOD:PUBLISH
X-ORIGINAL-URL:https://kanawhaclub.com
X-WR-CALDESC:Events for Kanawha Club
REFRESH-INTERVAL;VALUE=DURATION:PT1H
X-Robots-Tag:noindex
X-PUBLISHED-TTL:PT1H
BEGIN:VTIMEZONE
TZID:UTC
BEGIN:STANDARD
TZOFFSETFROM:+0000
TZOFFSETTO:+0000
TZNAME:UTC
DTSTART:20230101T000000
END:STANDARD
END:VTIMEZONE
BEGIN:VEVENT
DTSTART;TZID=UTC:20240623T150000
DTEND;TZID=UTC:20240623T180000
DTSTAMP:20260421T075302
CREATED:20240317T222857Z
LAST-MODIFIED:20240317T222857Z
UID:10000197-1719154800-1719165600@kanawhaclub.com
SUMMARY:(Grand)Parent/Child Tournament
DESCRIPTION:
URL:https://kanawhaclub.com/event/grandparent-child-tournament/
END:VEVENT
END:VCALENDAR