BEGIN:VCALENDAR
VERSION:2.0
PRODID:-//Kanawha Club - ECPv6.15.17.1//NONSGML v1.0//EN
CALSCALE:GREGORIAN
METHOD:PUBLISH
X-WR-CALNAME:Kanawha Club
X-ORIGINAL-URL:https://kanawhaclub.com
X-WR-CALDESC:Events for Kanawha Club
REFRESH-INTERVAL;VALUE=DURATION:PT1H
X-Robots-Tag:noindex
X-PUBLISHED-TTL:PT1H
BEGIN:VTIMEZONE
TZID:UTC
BEGIN:STANDARD
TZOFFSETFROM:+0000
TZOFFSETTO:+0000
TZNAME:UTC
DTSTART:20220101T000000
END:STANDARD
END:VTIMEZONE
BEGIN:VEVENT
DTSTART;VALUE=DATE:20230425
DTEND;VALUE=DATE:20230426
DTSTAMP:20260424T064452
CREATED:20230807T231137Z
LAST-MODIFIED:20230807T231137Z
UID:10000120-1682380800-1682467199@kanawhaclub.com
SUMMARY:Club and all facilities are Closed
DESCRIPTION:The club is closed on Tuesday’s each week.
URL:https://kanawhaclub.com/event/club-and-all-facilities-are-closed/2023-04-25/
END:VEVENT
BEGIN:VEVENT
DTSTART;VALUE=DATE:20230418
DTEND;VALUE=DATE:20230419
DTSTAMP:20260424T064452
CREATED:20230807T231137Z
LAST-MODIFIED:20230807T231137Z
UID:10000119-1681776000-1681862399@kanawhaclub.com
SUMMARY:Club and all facilities are Closed
DESCRIPTION:The club is closed on Tuesday’s each week.
URL:https://kanawhaclub.com/event/club-and-all-facilities-are-closed/2023-04-18/
END:VEVENT
BEGIN:VEVENT
DTSTART;VALUE=DATE:20230411
DTEND;VALUE=DATE:20230412
DTSTAMP:20260424T064452
CREATED:20230807T231137Z
LAST-MODIFIED:20230807T231137Z
UID:10000118-1681171200-1681257599@kanawhaclub.com
SUMMARY:Club and all facilities are Closed
DESCRIPTION:The club is closed on Tuesday’s each week.
URL:https://kanawhaclub.com/event/club-and-all-facilities-are-closed/2023-04-11/
END:VEVENT
BEGIN:VEVENT
DTSTART;VALUE=DATE:20230404
DTEND;VALUE=DATE:20230405
DTSTAMP:20260424T064452
CREATED:20230807T231137Z
LAST-MODIFIED:20230807T231137Z
UID:10000117-1680566400-1680652799@kanawhaclub.com
SUMMARY:Club and all facilities are Closed
DESCRIPTION:The club is closed on Tuesday’s each week.
URL:https://kanawhaclub.com/event/club-and-all-facilities-are-closed/2023-04-04/
END:VEVENT
BEGIN:VEVENT
DTSTART;VALUE=DATE:20230328
DTEND;VALUE=DATE:20230329
DTSTAMP:20260424T064452
CREATED:20230807T231137Z
LAST-MODIFIED:20230807T231137Z
UID:10000116-1679961600-1680047999@kanawhaclub.com
SUMMARY:Club and all facilities are Closed
DESCRIPTION:The club is closed on Tuesday’s each week.
URL:https://kanawhaclub.com/event/club-and-all-facilities-are-closed/2023-03-28/
END:VEVENT
BEGIN:VEVENT
DTSTART;VALUE=DATE:20230321
DTEND;VALUE=DATE:20230322
DTSTAMP:20260424T064452
CREATED:20230807T231137Z
LAST-MODIFIED:20230807T231137Z
UID:10000115-1679356800-1679443199@kanawhaclub.com
SUMMARY:Club and all facilities are Closed
DESCRIPTION:The club is closed on Tuesday’s each week.
URL:https://kanawhaclub.com/event/club-and-all-facilities-are-closed/2023-03-21/
END:VEVENT
END:VCALENDAR