BEGIN:VCALENDAR
VERSION:2.0
PRODID:-//Kanawha Club - ECPv6.15.17.1//NONSGML v1.0//EN
CALSCALE:GREGORIAN
METHOD:PUBLISH
X-ORIGINAL-URL:https://kanawhaclub.com
X-WR-CALDESC:Events for Kanawha Club
REFRESH-INTERVAL;VALUE=DURATION:PT1H
X-Robots-Tag:noindex
X-PUBLISHED-TTL:PT1H
BEGIN:VTIMEZONE
TZID:UTC
BEGIN:STANDARD
TZOFFSETFROM:+0000
TZOFFSETTO:+0000
TZNAME:UTC
DTSTART:20220101T000000
END:STANDARD
END:VTIMEZONE
BEGIN:VEVENT
DTSTART;TZID=UTC:20230703T100000
DTEND;TZID=UTC:20230703T120000
DTSTAMP:20260422T104711
CREATED:20230611T235941Z
LAST-MODIFIED:20230807T230739Z
UID:10000098-1688378400-1688385600@kanawhaclub.com
SUMMARY:Pro/Ladies Play
DESCRIPTION:Ladies only!  Come out to play with the Pro on Monday mornings. Our tee time is 10:00 am.  Light competition and lots of fun with some help with short game and green reading along the way.
URL:https://kanawhaclub.com/event/pro-ladies-play-6/2023-07-03/
END:VEVENT
BEGIN:VEVENT
DTSTART;VALUE=DATE:20230704
DTEND;VALUE=DATE:20230705
DTSTAMP:20260422T104711
CREATED:20230807T231137Z
LAST-MODIFIED:20230807T231137Z
UID:10000130-1688428800-1688515199@kanawhaclub.com
SUMMARY:Club and all facilities are Closed
DESCRIPTION:The club is closed on Tuesday’s each week.
URL:https://kanawhaclub.com/event/club-and-all-facilities-are-closed/2023-07-04/
END:VEVENT
BEGIN:VEVENT
DTSTART;TZID=UTC:20230706T170000
DTEND;TZID=UTC:20230706T170000
DTSTAMP:20260422T104711
CREATED:20230611T235136Z
LAST-MODIFIED:20230611T235136Z
UID:10000024-1688662800-1688662800@kanawhaclub.com
SUMMARY:Thursday 5'Oclock Game
DESCRIPTION:Get ready for the weekend with a little competitive spirit and camaraderie with your fellow members and the pro.\nThursday’s there is a pick-up game available for all to enjoy weather permitting. We plan to play through November 2nd.\nThe group plays 9 holes then convenes on the porch for a drink.\nGames are handicapped so don’t be afraid to join in the fun! \nA reminder to sign up to play will be sent on Monday each week.
URL:https://kanawhaclub.com/event/thursday-5oclock-game-2/
END:VEVENT
BEGIN:VEVENT
DTSTART;TZID=UTC:20230710T100000
DTEND;TZID=UTC:20230710T120000
DTSTAMP:20260422T104711
CREATED:20230611T235941Z
LAST-MODIFIED:20230807T230739Z
UID:10000099-1688983200-1688990400@kanawhaclub.com
SUMMARY:Pro/Ladies Play
DESCRIPTION:Ladies only!  Come out to play with the Pro on Monday mornings. Our tee time is 10:00 am.  Light competition and lots of fun with some help with short game and green reading along the way.
URL:https://kanawhaclub.com/event/pro-ladies-play-6/2023-07-10/
END:VEVENT
BEGIN:VEVENT
DTSTART;VALUE=DATE:20230711
DTEND;VALUE=DATE:20230712
DTSTAMP:20260422T104711
CREATED:20230807T231137Z
LAST-MODIFIED:20230807T231137Z
UID:10000131-1689033600-1689119999@kanawhaclub.com
SUMMARY:Club and all facilities are Closed
DESCRIPTION:The club is closed on Tuesday’s each week.
URL:https://kanawhaclub.com/event/club-and-all-facilities-are-closed/2023-07-11/
END:VEVENT
BEGIN:VEVENT
DTSTART;TZID=UTC:20230713T170000
DTEND;TZID=UTC:20230713T170000
DTSTAMP:20260422T104711
CREATED:20230611T235218Z
LAST-MODIFIED:20230611T235218Z
UID:10000025-1689267600-1689267600@kanawhaclub.com
SUMMARY:Thursday 5'Oclock Game
DESCRIPTION:Get ready for the weekend with a little competitive spirit and camaraderie with your fellow members and the pro.\nThursday’s there is a pick-up game available for all to enjoy weather permitting. We plan to play through November 2nd.\nThe group plays 9 holes then convenes on the porch for a drink.\nGames are handicapped so don’t be afraid to join in the fun! \nA reminder to sign up to play will be sent on Monday each week.
URL:https://kanawhaclub.com/event/thursday-5oclock-game-3/
END:VEVENT
BEGIN:VEVENT
DTSTART;TZID=UTC:20230717T100000
DTEND;TZID=UTC:20230717T120000
DTSTAMP:20260422T104711
CREATED:20230611T235941Z
LAST-MODIFIED:20230807T230739Z
UID:10000100-1689588000-1689595200@kanawhaclub.com
SUMMARY:Pro/Ladies Play
DESCRIPTION:Ladies only!  Come out to play with the Pro on Monday mornings. Our tee time is 10:00 am.  Light competition and lots of fun with some help with short game and green reading along the way.
URL:https://kanawhaclub.com/event/pro-ladies-play-6/2023-07-17/
END:VEVENT
BEGIN:VEVENT
DTSTART;VALUE=DATE:20230718
DTEND;VALUE=DATE:20230719
DTSTAMP:20260422T104711
CREATED:20230807T231137Z
LAST-MODIFIED:20230807T231137Z
UID:10000132-1689638400-1689724799@kanawhaclub.com
SUMMARY:Club and all facilities are Closed
DESCRIPTION:The club is closed on Tuesday’s each week.
URL:https://kanawhaclub.com/event/club-and-all-facilities-are-closed/2023-07-18/
END:VEVENT
BEGIN:VEVENT
DTSTART;TZID=UTC:20230720T170000
DTEND;TZID=UTC:20230720T170000
DTSTAMP:20260422T104711
CREATED:20230611T235250Z
LAST-MODIFIED:20230611T235250Z
UID:10000026-1689872400-1689872400@kanawhaclub.com
SUMMARY:Thursday 5'Oclock Game
DESCRIPTION:Get ready for the weekend with a little competitive spirit and camaraderie with your fellow members and the pro.\nThursday’s there is a pick-up game available for all to enjoy weather permitting. We plan to play through November 2nd.\nThe group plays 9 holes then convenes on the porch for a drink.\nGames are handicapped so don’t be afraid to join in the fun! \nA reminder to sign up to play will be sent on Monday each week.
URL:https://kanawhaclub.com/event/thursday-5oclock-game-4/
END:VEVENT
BEGIN:VEVENT
DTSTART;TZID=UTC:20230724T100000
DTEND;TZID=UTC:20230724T120000
DTSTAMP:20260422T104711
CREATED:20230611T235941Z
LAST-MODIFIED:20230807T230739Z
UID:10000101-1690192800-1690200000@kanawhaclub.com
SUMMARY:Pro/Ladies Play
DESCRIPTION:Ladies only!  Come out to play with the Pro on Monday mornings. Our tee time is 10:00 am.  Light competition and lots of fun with some help with short game and green reading along the way.
URL:https://kanawhaclub.com/event/pro-ladies-play-6/2023-07-24/
END:VEVENT
BEGIN:VEVENT
DTSTART;VALUE=DATE:20230725
DTEND;VALUE=DATE:20230726
DTSTAMP:20260422T104711
CREATED:20230807T231137Z
LAST-MODIFIED:20230807T231137Z
UID:10000133-1690243200-1690329599@kanawhaclub.com
SUMMARY:Club and all facilities are Closed
DESCRIPTION:The club is closed on Tuesday’s each week.
URL:https://kanawhaclub.com/event/club-and-all-facilities-are-closed/2023-07-25/
END:VEVENT
BEGIN:VEVENT
DTSTART;TZID=UTC:20230727T170000
DTEND;TZID=UTC:20230727T170000
DTSTAMP:20260422T104711
CREATED:20230611T235318Z
LAST-MODIFIED:20230611T235318Z
UID:10000027-1690477200-1690477200@kanawhaclub.com
SUMMARY:Thursday 5'Oclock Game
DESCRIPTION:Get ready for the weekend with a little competitive spirit and camaraderie with your fellow members and the pro.\nThursday’s there is a pick-up game available for all to enjoy weather permitting. We plan to play through November 2nd.\nThe group plays 9 holes then convenes on the porch for a drink.\nGames are handicapped so don’t be afraid to join in the fun! \nA reminder to sign up to play will be sent on Monday each week.
URL:https://kanawhaclub.com/event/thursday-5oclock-game-5/
END:VEVENT
BEGIN:VEVENT
DTSTART;TZID=UTC:20230731T100000
DTEND;TZID=UTC:20230731T120000
DTSTAMP:20260422T104711
CREATED:20230611T235941Z
LAST-MODIFIED:20230807T230739Z
UID:10000102-1690797600-1690804800@kanawhaclub.com
SUMMARY:Pro/Ladies Play
DESCRIPTION:Ladies only!  Come out to play with the Pro on Monday mornings. Our tee time is 10:00 am.  Light competition and lots of fun with some help with short game and green reading along the way.
URL:https://kanawhaclub.com/event/pro-ladies-play-6/2023-07-31/
END:VEVENT
END:VCALENDAR